BEGIN:VCALENDAR
VERSION:2.0
PRODID:-//yourwebsite.com//Event Calendar//EN
CALSCALE:GREGORIAN
METHOD:PUBLISH
BEGIN:VEVENT
UID:69e6523b05e7c0.14946476@yourwebsite.com
DTSTAMP:20260420T162011Z
DTSTART:20260521T110000Z
DTEND:20260521T140000Z
SUMMARY:Boccia Tournament Bern
DESCRIPTION:Boccia Tournament Bern\n21. May 2026 13.00 - 16.00\nSichern Sie sich jetzt Ihren Platz und gestalten Sie die Zukunft der IT mit!\nhttps://itconcepts.ch/event/boccia-tournament-bern/
LOCATION:Bern\, 3005 Bern\, Grottino an der Aare  Dalmaziquai 111  
END:VEVENT
END:VCALENDAR
