BEGIN:VCALENDAR
VERSION:2.0
PRODID:-//yourwebsite.com//Event Calendar//EN
CALSCALE:GREGORIAN
METHOD:PUBLISH
BEGIN:VEVENT
UID:69e658a4457ca0.87633804@yourwebsite.com
DTSTAMP:20260420T164732Z
DTSTART:20260528T110000Z
DTEND:20260528T140000Z
SUMMARY:Boccia Tournament Zürich
DESCRIPTION:Boccia Tournament Zürich\n28. May 2026 13.00 - 16.00\nhttps://itconcepts.ch/event/boccia-tournament-zuerich/
LOCATION:Zürich\, 8001 Zürich\, Lindenhof Zürich  Lindenhofstrasse 2    
END:VEVENT
END:VCALENDAR
